BEGIN:VCALENDAR
VERSION:2.0
METHOD:PUBLISH
PRODID:-//Causal Sarl//LionsBase Calendar 5.0.x-dev//EN
TZID:Europe/Zurich
BEGIN:VEVENT
UID:33367_20260604@wien-albertina.lions.at
TRANSP:TRANSPARENT
X-FUNAMBOL-ALLDAY:1
X-MICROSOFT-CDO-ALLDAYEVENT:1
DTSTAMP:20260423T063605Z
DTSTART;VALUE=DATE:20260604
DTEND;VALUE=DATE:20260608
ORGANIZER:LC Wien St. Stephan öffentlich
LOCATION:1230 Wien\, Maurer Hauptplatz
SUMMARY:MAURER KIRTAG 2026\, veranstaltet vom LIONS Club Wien St. Stephan
DESCRIPTION:SAVE THE DATE \n\nDer traditionsreiche LIONS Kir
 tag auf der Mauer findet auch heuer wieder statt - zum 47. M
 al in seiner langen Geschichte. Die Vorbereitungen laufen de
 rzeit auf Hochtouren.  \n\nHier geht es zurAnkündigung [1] -
  das Programm und weitere Details werden hier zu einem späte
 ren Zeitpunkt verfügbar gemacht. \n\nZum Einstimmen: Besuche
 n Sie unsere Homepage zu denKirtagen 2024 und 2025 [2]. \n\n
 Wir freuen uns auf zahlreichen Besuch!
END:VEVENT
END:VCALENDAR
